BEGIN:VCALENDAR
VERSION:2.0
PRODID:-//ChamberMaster//Event Calendar 2.0//EN
METHOD:PUBLISH
X-PUBLISHED-TTL:P3D
REFRESH-INTERVAL:P3D
CALSCALE:GREGORIAN
BEGIN:VEVENT
DTSTART:20250918T153000Z
DTEND:20250918T170000Z
X-MICROSOFT-CDO-ALLDAYEVENT:FALSE
SUMMARY:7TH ANNUAL UNITED WAY TRI-CITY TRIVIA CHALLENGE
DESCRIPTION:7TH ANNUAL TRI-CITY TRIVIA CHALLENGE
X-ALT-DESC;FMTTYPE=text/html:7TH ANNUAL TRI-CITY TRIVIA CHALLENGE
LOCATION:BELLE GLADE BRANCH PALM BEACH COUNTY LIBRARY 725 N.W. 4TH STREET BELLE GLADE\, FLORIDA
UID:e.3426.1238
SEQUENCE:3
DTSTAMP:20260424T174643Z
URL:https://www.bellegladechamber.com/events/details/7th-annual-united-way-tri-city-trivia-challenge-1238
END:VEVENT

END:VCALENDAR
