BEGIN:VCALENDAR
VERSION:2.0
PRODID:-//ChamberMaster//Event Calendar 2.0//EN
METHOD:PUBLISH
X-PUBLISHED-TTL:P3D
REFRESH-INTERVAL:P3D
CALSCALE:GREGORIAN
BEGIN:VEVENT
DTSTART:20211215T233000Z
DTEND:20211216T030000Z
X-MICROSOFT-CDO-ALLDAYEVENT:FALSE
SUMMARY:American Legion Bingo
DESCRIPTION:American Legion Bingo
X-ALT-DESC;FMTTYPE=text/html:American Legion Bingo&nbsp\;&nbsp\;&nbsp\;&nbsp\;
LOCATION:American Legion Hall Belle Glade
UID:e.3426.462
SEQUENCE:3
DTSTAMP:20260426T020945Z
URL:https://www.bellegladechamber.com/events/details/american-legion-bingo-12-15-2021-462
END:VEVENT

END:VCALENDAR
