BEGIN:VCALENDAR
VERSION:2.0
PRODID:-//ChamberMaster//Event Calendar 2.0//EN
METHOD:PUBLISH
X-PUBLISHED-TTL:P3D
REFRESH-INTERVAL:P3D
CALSCALE:GREGORIAN
BEGIN:VEVENT
DTSTART:20191010T153000Z
DTEND:20191010T171500Z
X-MICROSOFT-CDO-ALLDAYEVENT:FALSE
SUMMARY:Ann Marie Sorrell Lunch and Learn Program
DESCRIPTION:Hosted by LORE - Registration through HTTPS://LORELNL1010.EVENTBRITE.COM is required\n\nMs. Sorrell  of the Mosaic Group helps clients in South Florida with public and government relations and marketing.  She has received numerous awards for her leadership\, business acumen and community involvement.
X-ALT-DESC;FMTTYPE=text/html:Hosted by LORE - Registration through HTTPS://LORELNL1010.EVENTBRITE.COM is required<br />\nMs. Sorrell&nbsp\; of the Mosaic Group helps clients in South Florida with public and government relations and marketing.&nbsp\; She has received numerous awards for her leadership\, business acumen and community involvement.
LOCATION:Jameson Hall at Community United Methodist Church 401 S.W. 1st Street Belle Glade\, Florida
UID:e.3426.334
SEQUENCE:3
DTSTAMP:20260421T092025Z
URL:https://www.bellegladechamber.com/events/details/ann-marie-sorrell-lunch-and-learn-program-334
END:VEVENT

END:VCALENDAR
