BEGIN:VCALENDAR
VERSION:2.0
PRODID:-//ChamberMaster//Event Calendar 2.0//EN
METHOD:PUBLISH
X-PUBLISHED-TTL:P3D
REFRESH-INTERVAL:P3D
CALSCALE:GREGORIAN
BEGIN:VEVENT
DTSTART:20250510T180000Z
DTEND:20250510T200000Z
X-MICROSOFT-CDO-ALLDAYEVENT:FALSE
SUMMARY:Ann Tyler Art Show
DESCRIPTION:Ann Tyler Art Show
X-ALT-DESC;FMTTYPE=text/html:Ann Tyler Art Show
LOCATION:Lawrence E. Will Museum 530 S. Main Street Belle Glade\, Florida 33430
UID:e.3426.1228
SEQUENCE:3
DTSTAMP:20260424T131832Z
URL:https://www.bellegladechamber.com/events/details/ann-tyler-art-show-1228
END:VEVENT

END:VCALENDAR
