BEGIN:VCALENDAR
VERSION:2.0
PRODID:-//ChamberMaster//Event Calendar 2.0//EN
METHOD:PUBLISH
X-PUBLISHED-TTL:P3D
REFRESH-INTERVAL:P3D
CALSCALE:GREGORIAN
BEGIN:VEVENT
DTSTART:20190923T193000Z
DTEND:20190923T201500Z
X-MICROSOFT-CDO-ALLDAYEVENT:FALSE
SUMMARY:Auditions for Missoula Children's Theatre
DESCRIPTION:Auditions\n\nGrades K5-12. \n\nMissoula Children's Theater Production of Jack and the Beanstalk.
X-ALT-DESC;FMTTYPE=text/html:Auditions<br />\nGrades K5-12.&nbsp\;<br />\nMissoula Children&#39\;s Theater Production of Jack and the Beanstalk.&nbsp\;&nbsp\;
LOCATION:Dolly Hand Cultural Arts Center - Belle Glade
UID:e.3426.331
SEQUENCE:3
DTSTAMP:20260421T104536Z
URL:https://www.bellegladechamber.com/events/details/auditions-for-missoula-children-s-theatre-331
END:VEVENT

END:VCALENDAR
