BEGIN:VCALENDAR
VERSION:2.0
PRODID:-//ChamberMaster//Event Calendar 2.0//EN
METHOD:PUBLISH
X-PUBLISHED-TTL:P3D
REFRESH-INTERVAL:P3D
CALSCALE:GREGORIAN
BEGIN:VEVENT
DTSTART:20191116T223000Z
DTEND:20191117T013000Z
X-MICROSOFT-CDO-ALLDAYEVENT:FALSE
SUMMARY:Belle Glade Lions Club Dinner and Auction
DESCRIPTION:Belle Glade Lions Club Dinner and Auction
X-ALT-DESC;FMTTYPE=text/html:Belle Glade Lions Club Dinner and Auction
LOCATION:The Drawbridge Restaurant Belle Glade Golf Course Torry Island Road Belle Glade
UID:e.3426.349
SEQUENCE:3
DTSTAMP:20260421T104437Z
URL:https://www.bellegladechamber.com/events/details/belle-glade-lions-club-dinner-and-auction-349
END:VEVENT

END:VCALENDAR
