BEGIN:VCALENDAR
VERSION:2.0
PRODID:-//ChamberMaster//Event Calendar 2.0//EN
METHOD:PUBLISH
X-PUBLISHED-TTL:P3D
REFRESH-INTERVAL:P3D
CALSCALE:GREGORIAN
BEGIN:VEVENT
DTSTART:20251214T223000Z
DTEND:20251214T223000Z
X-MICROSOFT-CDO-ALLDAYEVENT:FALSE
SUMMARY:Carolling in Towne Square
DESCRIPTION:CAROLLING IN TOWNE SQUARE\n\nLIVE MUSIC\, HOT CHOCOLATE\, CARNIVAL RIDES\n\nPRAISE DANCING\, CHRISTMAS CAROLS\, LIGHTING OF THE CHRISTMAS TREE
X-ALT-DESC;FMTTYPE=text/html:CAROLLING IN TOWNE SQUARE<br />\nLIVE MUSIC\, HOT CHOCOLATE\, CARNIVAL RIDES<br />\nPRAISE DANCING\, CHRISTMAS CAROLS\, LIGHTING OF THE CHRISTMAS TREE
LOCATION:TOWNE SQUARE AT THE CORNER OF DR. MARTIN LUTHER KING JR. BLVD AND MAIN STREET BELLE GLADE
UID:e.3426.1252
SEQUENCE:3
DTSTAMP:20260424T204044Z
URL:https://www.bellegladechamber.com/events/details/carolling-in-towne-square-1252
END:VEVENT

END:VCALENDAR
