BEGIN:VCALENDAR
VERSION:2.0
PRODID:-//ChamberMaster//Event Calendar 2.0//EN
METHOD:PUBLISH
X-PUBLISHED-TTL:P3D
REFRESH-INTERVAL:P3D
CALSCALE:GREGORIAN
BEGIN:VEVENT
DTSTART;VALUE=DATE:20190918
DTEND;VALUE=DATE:20190919
TRANSP:TRANSPARENT
X-MICROSOFT-CDO-ALLDAYEVENT:TRUE
SUMMARY:Chamber Breakfast
DESCRIPTION:Monthly Chamber Breakfast
X-ALT-DESC;FMTTYPE=text/html:Monthly Chamber Breakfast&nbsp\;&nbsp\;&nbsp\;&nbsp\;
LOCATION:Lakeside Medical Center (Cafeteria) 39200 Hooker Highway Belle Glade\, Florida
UID:e.3426.324
SEQUENCE:3
DTSTAMP:20260421T103708Z
URL:https://www.bellegladechamber.com/events/details/chamber-breakfast-324
END:VEVENT

END:VCALENDAR
