BEGIN:VCALENDAR
VERSION:2.0
PRODID:-//ChamberMaster//Event Calendar 2.0//EN
METHOD:PUBLISH
X-PUBLISHED-TTL:P3D
REFRESH-INTERVAL:P3D
CALSCALE:GREGORIAN
BEGIN:VEVENT
DTSTART:20191016T113000Z
DTEND:20191016T123000Z
X-MICROSOFT-CDO-ALLDAYEVENT:FALSE
SUMMARY:Chamber Breakfast
DESCRIPTION:Chamber of Commerce Monthly Breakfast
X-ALT-DESC;FMTTYPE=text/html:Chamber of Commerce Monthly Breakfast
LOCATION:Lakeside Medical Center (Cafeteria) 39200 Hooker Highway Belle Glade\, Florida
UID:e.3426.329
SEQUENCE:3
DTSTAMP:20260421T103009Z
URL:https://www.bellegladechamber.com/events/details/chamber-breakfast-329
END:VEVENT

END:VCALENDAR
