BEGIN:VCALENDAR
VERSION:2.0
PRODID:-//ChamberMaster//Event Calendar 2.0//EN
METHOD:PUBLISH
X-PUBLISHED-TTL:P3D
REFRESH-INTERVAL:P3D
CALSCALE:GREGORIAN
BEGIN:VEVENT
DTSTART;VALUE=DATE:20191013
DTEND;VALUE=DATE:20191014
TRANSP:TRANSPARENT
X-MICROSOFT-CDO-ALLDAYEVENT:TRUE
SUMMARY:Community United Methodist Church 100 year Anniversary
DESCRIPTION:Community United Methodist Church celebrates 100 years of doing ministry in Belle Glade.  We invite you to come worship with us\, and celebrate this milestone in our churches history.
X-ALT-DESC;FMTTYPE=text/html:Community United Methodist Church celebrates 100 years of doing ministry in Belle Glade.&nbsp\; We invite you to come worship with us\, and celebrate this milestone in our churches history.&nbsp\;&nbsp\;
LOCATION:401 S.W. 1st Street Belle Glade\, Florida
UID:e.3426.327
SEQUENCE:3
DTSTAMP:20260421T094124Z
URL:https://www.bellegladechamber.com/events/details/community-united-methodist-church-100-year-anniversary-327
END:VEVENT

END:VCALENDAR
