BEGIN:VCALENDAR
VERSION:2.0
PRODID:-//ChamberMaster//Event Calendar 2.0//EN
METHOD:PUBLISH
X-PUBLISHED-TTL:P3D
REFRESH-INTERVAL:P3D
CALSCALE:GREGORIAN
BEGIN:VEVENT
DTSTART;VALUE=DATE:20191114
DTEND;VALUE=DATE:20191115
TRANSP:TRANSPARENT
X-MICROSOFT-CDO-ALLDAYEVENT:TRUE
SUMMARY:Economic Forum
DESCRIPTION:Strengthening Communities for the Future:  Economic Development of the Glades Area\n\nSponsored by Palm Beach State Community Relations and the Belle Glade Campus\n\nJoin us for an open conversation about economic development in the Glades region to learn about initiatives being implemented to continue positive school grades\, after school enrichment programs that are coming and the economic development and marketing of Florida's Heartland including the cities of Belle Glade\, Pahokee\, South Bay and Hendry County.
X-ALT-DESC;FMTTYPE=text/html:Strengthening Communities for the Future:&nbsp\; Economic Development of the Glades Area<br />\nSponsored by Palm Beach State Community Relations and the Belle Glade Campus<br />\nJoin us for an open conversation about economic development in the Glades region to learn about initiatives being implemented to continue positive school grades\, after school enrichment programs that are coming and the economic development and marketing of Florida&#39\;s Heartland including the cities of Belle Glade\, Pahokee\, South Bay and Hendry County.<br />\n&nbsp\;
LOCATION:Dolly Hand Cultural Arts Center 1977 College Drive Belle Glade\, Florida
UID:e.3426.347
SEQUENCE:3
DTSTAMP:20260421T103634Z
URL:https://www.bellegladechamber.com/events/details/economic-forum-347
END:VEVENT

END:VCALENDAR
