BEGIN:VCALENDAR
VERSION:2.0
PRODID:-//ChamberMaster//Event Calendar 2.0//EN
METHOD:PUBLISH
X-PUBLISHED-TTL:P3D
REFRESH-INTERVAL:P3D
CALSCALE:GREGORIAN
BEGIN:VEVENT
DTSTART:20251203T223000Z
DTEND:20251204T003000Z
X-MICROSOFT-CDO-ALLDAYEVENT:FALSE
SUMMARY:FESTIVAL OF TREES
DESCRIPTION:CELEBRATE THE HOLIDAY SPIRIT\n\nAT THE DOLLY HAND\n\nFESTIVAL OF TREES\n\nTAKE A PHOTO WITH SANTA\, ENJOY DELICIOUS HOLIDAY TREATS AND MORE!
X-ALT-DESC;FMTTYPE=text/html:CELEBRATE THE HOLIDAY SPIRIT<br />\nAT THE DOLLY HAND<br />\nFESTIVAL OF TREES<br />\nTAKE A PHOTO WITH SANTA\, ENJOY DELICIOUS HOLIDAY TREATS AND MORE!&nbsp\;<br />\n&nbsp\;
LOCATION:DOLLY HAND CULTURAL ARTS CENTER 1977 COLLEGE DRIVE BELLE GLADE
UID:e.3426.1249
SEQUENCE:3
DTSTAMP:20260424T204416Z
URL:https://www.bellegladechamber.com/events/details/festival-of-trees-1249
END:VEVENT

END:VCALENDAR
