BEGIN:VCALENDAR
VERSION:2.0
PRODID:-//ChamberMaster//Event Calendar 2.0//EN
METHOD:PUBLISH
X-PUBLISHED-TTL:P3D
REFRESH-INTERVAL:P3D
CALSCALE:GREGORIAN
BEGIN:VEVENT
DTSTART:20191224T230000Z
DTEND:20191225T000000Z
X-MICROSOFT-CDO-ALLDAYEVENT:FALSE
SUMMARY:First Baptist Church Christmas Eve Candlelight Service
DESCRIPTION:Christmas Eve Candlelight Church Service
X-ALT-DESC;FMTTYPE=text/html:Christmas Eve Candlelight Church Service
LOCATION:First Baptist Church 17 N.W. Avenue B Belle Glade
UID:e.3426.359
SEQUENCE:3
DTSTAMP:20260421T114752Z
URL:https://www.bellegladechamber.com/events/details/first-baptist-church-christmas-eve-candlelight-service-359
END:VEVENT

END:VCALENDAR
