BEGIN:VCALENDAR
VERSION:2.0
PRODID:-//ChamberMaster//Event Calendar 2.0//EN
METHOD:PUBLISH
X-PUBLISHED-TTL:P3D
REFRESH-INTERVAL:P3D
CALSCALE:GREGORIAN
BEGIN:VEVENT
DTSTART;VALUE=DATE:20191103
DTEND;VALUE=DATE:20191104
TRANSP:TRANSPARENT
X-MICROSOFT-CDO-ALLDAYEVENT:TRUE
SUMMARY:First Baptist Church Harvest Blow Out
DESCRIPTION:Family Fun - Free Games and activities for the kids\, \n\nFood
X-ALT-DESC;FMTTYPE=text/html:Family Fun - Free Games and activities for the kids\,&nbsp\;<br />\nFood
LOCATION:17 N.W. Ave. B Belle Glade
UID:e.3426.337
SEQUENCE:3
DTSTAMP:20260421T104411Z
URL:https://www.bellegladechamber.com/events/details/first-baptist-church-harvest-blow-out-337
END:VEVENT

END:VCALENDAR
