BEGIN:VCALENDAR
VERSION:2.0
PRODID:-//ChamberMaster//Event Calendar 2.0//EN
METHOD:PUBLISH
X-PUBLISHED-TTL:P3D
REFRESH-INTERVAL:P3D
CALSCALE:GREGORIAN
BEGIN:VEVENT
DTSTART:20191016T130000Z
DTEND:20191031T200000Z
X-MICROSOFT-CDO-ALLDAYEVENT:FALSE
SUMMARY:First Baptist Church Pumpkin Patch
DESCRIPTION:
X-ALT-DESC;FMTTYPE=text/html:
LOCATION:First Baptist Church 17 N.W. Avenue B Belle Glade
UID:e.3426.336
SEQUENCE:3
DTSTAMP:20260423T093531Z
URL:https://www.bellegladechamber.com/events/details/first-baptist-church-pumpkin-patch-336
END:VEVENT

END:VCALENDAR
