BEGIN:VCALENDAR
VERSION:2.0
PRODID:-//ChamberMaster//Event Calendar 2.0//EN
METHOD:PUBLISH
X-PUBLISHED-TTL:P3D
REFRESH-INTERVAL:P3D
CALSCALE:GREGORIAN
BEGIN:VEVENT
DTSTART:20251210T203000Z
DTEND:20251210T213000Z
X-MICROSOFT-CDO-ALLDAYEVENT:FALSE
SUMMARY:FROM UKRAINE TO THE WORLD
DESCRIPTION:FROM UKRAINE TO THE WORLD\n\nCAROL OF THE BELLS\n\nDiscover the Ukrainian origins of the world famous Carol of the Bells\n\nThis lecture explores its rich history\, cultural significance and transformation from a Ukrainian folk melody into a global Christmas Classic.
X-ALT-DESC;FMTTYPE=text/html:FROM UKRAINE TO THE WORLD<br />\nCAROL OF THE BELLS<br />\nDiscover the Ukrainian origins of the world famous Carol of the Bells<br />\nThis lecture explores its rich history\, cultural significance and transformation from a Ukrainian folk melody into a global Christmas Classic.
LOCATION:Belle Glade Branch Library 725 N.W. 4th Street Belle Glade
UID:e.3426.1259
SEQUENCE:3
DTSTAMP:20260424T204457Z
URL:https://www.bellegladechamber.com/events/details/from-ukraine-to-the-world-1259
END:VEVENT

END:VCALENDAR
