BEGIN:VCALENDAR
VERSION:2.0
PRODID:-//ChamberMaster//Event Calendar 2.0//EN
METHOD:PUBLISH
X-PUBLISHED-TTL:P3D
REFRESH-INTERVAL:P3D
CALSCALE:GREGORIAN
BEGIN:VEVENT
DTSTART:20250621T210000Z
DTEND:20250622T000000Z
X-MICROSOFT-CDO-ALLDAYEVENT:FALSE
SUMMARY:Glades Youth Explosion - Celebrating Junteenth
DESCRIPTION:Juneteenth Celebration
X-ALT-DESC;FMTTYPE=text/html:Juneteenth Celebration&nbsp\;&nbsp\;&nbsp\;&nbsp\;&nbsp\;&nbsp\;&nbsp\;&nbsp\;&nbsp\;&nbsp\;&nbsp\;&nbsp\;
LOCATION:Boys and Girls Club 341 S.W. 12th Street Belle Glade
UID:e.3426.1229
SEQUENCE:3
DTSTAMP:20260424T142005Z
URL:https://www.bellegladechamber.com/events/details/glades-youth-explosion-celebrating-junteenth-1229
END:VEVENT

END:VCALENDAR
