BEGIN:VCALENDAR
VERSION:2.0
PRODID:-//ChamberMaster//Event Calendar 2.0//EN
METHOD:PUBLISH
X-PUBLISHED-TTL:P3D
REFRESH-INTERVAL:P3D
CALSCALE:GREGORIAN
BEGIN:VEVENT
DTSTART:20250426T120000Z
DTEND:20250426T180000Z
X-MICROSOFT-CDO-ALLDAYEVENT:FALSE
SUMMARY:GREAT AMERICAN CLEANUP
DESCRIPTION:GREAT AMERICAN CLEANUP
X-ALT-DESC;FMTTYPE=text/html:GREAT AMERICAN CLEANUP&nbsp\;&nbsp\;&nbsp\;&nbsp\;&nbsp\;&nbsp\;&nbsp\;&nbsp\;&nbsp\;&nbsp\;&nbsp\;&nbsp\;&nbsp\;&nbsp\;&nbsp\;&nbsp\;&nbsp\;&nbsp\;&nbsp\;&nbsp\;&nbsp\;&nbsp\;&nbsp\;&nbsp\;&nbsp\;&nbsp\;&nbsp\;&nbsp\;
LOCATION:TOWNE SQUARE
UID:e.3426.1224
SEQUENCE:3
DTSTAMP:20260424T085405Z
URL:https://www.bellegladechamber.com/events/details/great-american-cleanup-1224
END:VEVENT

END:VCALENDAR
