BEGIN:VCALENDAR
VERSION:2.0
PRODID:-//ChamberMaster//Event Calendar 2.0//EN
METHOD:PUBLISH
X-PUBLISHED-TTL:P3D
REFRESH-INTERVAL:P3D
CALSCALE:GREGORIAN
BEGIN:VEVENT
DTSTART:20251211T223000Z
DTEND:20251212T003000Z
X-MICROSOFT-CDO-ALLDAYEVENT:FALSE
SUMMARY:Holiday Mixer
DESCRIPTION:HOLIDAY MIXER    \n\nSPONSORED BY THE BANK OF BELLE GLADE
X-ALT-DESC;FMTTYPE=text/html:HOLIDAY MIXER&nbsp\;&nbsp\;&nbsp\;&nbsp\;<br />\nSPONSORED BY THE BANK OF BELLE GLADE&nbsp\;
LOCATION:BANK OF BELLE GLADE 108 S.E. AVENUE D BELLE GLADE
UID:e.3426.1251
SEQUENCE:3
DTSTAMP:20260424T204319Z
URL:https://www.bellegladechamber.com/events/details/holiday-mixer-1251
END:VEVENT

END:VCALENDAR
