BEGIN:VCALENDAR
VERSION:2.0
PRODID:-//ChamberMaster//Event Calendar 2.0//EN
METHOD:PUBLISH
X-PUBLISHED-TTL:P3D
REFRESH-INTERVAL:P3D
CALSCALE:GREGORIAN
BEGIN:VEVENT
DTSTART:20250428T210000Z
DTEND:20250428T230000Z
X-MICROSOFT-CDO-ALLDAYEVENT:FALSE
SUMMARY:Lakeside Medical Center Community Town Hall
DESCRIPTION:Lakeside Medical Center/Tampa General Hospital Community Town Hall
X-ALT-DESC;FMTTYPE=text/html:Lakeside Medical Center/Tampa General Hospital Community Town Hall
LOCATION:Dolly Hand Cultural Arts Center 1977 College Drive Belle Glade\, Florida 33430
UID:e.3426.1227
SEQUENCE:3
DTSTAMP:20260424T090036Z
URL:https://www.bellegladechamber.com/events/details/lakeside-medical-center-community-town-hall-1227
END:VEVENT

END:VCALENDAR
