BEGIN:VCALENDAR
VERSION:2.0
PRODID:-//ChamberMaster//Event Calendar 2.0//EN
METHOD:PUBLISH
X-PUBLISHED-TTL:P3D
REFRESH-INTERVAL:P3D
CALSCALE:GREGORIAN
BEGIN:VEVENT
DTSTART;VALUE=DATE:20191016
DTEND;VALUE=DATE:20191017
TRANSP:TRANSPARENT
X-MICROSOFT-CDO-ALLDAYEVENT:TRUE
SUMMARY:Leadership Glades Business and Economy Day
DESCRIPTION:Leadership Glades Business and Economy Day\n\nThe program is designed to familiarize you with the day-to-day challenges of large and small businesses in the Glades.  It will include tours of area businesses and an opportunity to interact with the heads of these economic engines.
X-ALT-DESC;FMTTYPE=text/html:Leadership Glades Business and Economy Day<br />\n<span style="color: rgb(51\, 51\, 51)\; font-family: sans-serif\, Arial\, Verdana\, &quot\;Trebuchet MS&quot\;\; font-size: 13px\; background-color: rgb(255\, 255\, 255)\;">The program is designed to familiarize you with the day-to-day challenges of large and small businesses in the Glades.&nbsp\; It will include tours of area businesses and an opportunity to interact with the heads of these economic engines.&nbsp\;</span>\n<div>&nbsp\;</div>\n
LOCATION:The Business and Economy Day program is designed to familiarize you with the day-to-day challenges of large and small businesses in the Glades. It will include tours of area businesses and and opportunity to interact with the heads of these economic engines.
UID:e.3426.330
SEQUENCE:3
DTSTAMP:20260421T092337Z
URL:https://www.bellegladechamber.com/events/details/leadership-glades-business-and-economy-day-330
END:VEVENT

END:VCALENDAR
