BEGIN:VCALENDAR
VERSION:2.0
PRODID:-//ChamberMaster//Event Calendar 2.0//EN
METHOD:PUBLISH
X-PUBLISHED-TTL:P3D
REFRESH-INTERVAL:P3D
CALSCALE:GREGORIAN
BEGIN:VEVENT
DTSTART;VALUE=DATE:20190918
DTEND;VALUE=DATE:20190919
TRANSP:TRANSPARENT
X-MICROSOFT-CDO-ALLDAYEVENT:TRUE
SUMMARY:Leadership Glades Class of 2019/2020 Orientation
DESCRIPTION:Orientation Session
X-ALT-DESC;FMTTYPE=text/html:Orientation Session&nbsp\;&nbsp\;&nbsp\;&nbsp\;
LOCATION:Jameson Hall Community United Methodist Church 401 S.W. 1st Street Belle Glade
UID:e.3426.325
SEQUENCE:3
DTSTAMP:20260421T104331Z
URL:https://www.bellegladechamber.com/events/details/leadership-glades-class-of-2019-2020-orientation-325
END:VEVENT

END:VCALENDAR
