BEGIN:VCALENDAR
VERSION:2.0
PRODID:-//ChamberMaster//Event Calendar 2.0//EN
METHOD:PUBLISH
X-PUBLISHED-TTL:P3D
REFRESH-INTERVAL:P3D
CALSCALE:GREGORIAN
BEGIN:VEVENT
DTSTART:20190910T190000Z
DTEND:20190910T200000Z
X-MICROSOFT-CDO-ALLDAYEVENT:FALSE
SUMMARY:LORE Board of Directors Meeting
DESCRIPTION:Board of Directors Meeting
X-ALT-DESC;FMTTYPE=text/html:Board of Directors Meeting
LOCATION:Career Source (Conference Room)
UID:e.3426.328
SEQUENCE:3
DTSTAMP:20260421T104233Z
URL:https://www.bellegladechamber.com/events/details/lore-board-of-directors-meeting-328
END:VEVENT

END:VCALENDAR
