BEGIN:VCALENDAR
VERSION:2.0
PRODID:-//ChamberMaster//Event Calendar 2.0//EN
METHOD:PUBLISH
X-PUBLISHED-TTL:P3D
REFRESH-INTERVAL:P3D
CALSCALE:GREGORIAN
BEGIN:VEVENT
DTSTART:20190928T230000Z
DTEND:20190929T010000Z
X-MICROSOFT-CDO-ALLDAYEVENT:FALSE
SUMMARY:Missoula Children's Theater Production of Jack and the Beanstalk
DESCRIPTION:Missoula Children's Theater Production of Jack and the Beanstalk
X-ALT-DESC;FMTTYPE=text/html:Missoula Children&#39\;s Theater Production of Jack and the Beanstalk
LOCATION:Dolly Hand Cultural Arts Center Belle Glade
UID:e.3426.333
SEQUENCE:3
DTSTAMP:20260421T104902Z
URL:https://www.bellegladechamber.com/events/details/missoula-children-s-theater-production-of-jack-and-the-beanstalk-333
END:VEVENT

END:VCALENDAR
