BEGIN:VCALENDAR
VERSION:2.0
PRODID:-//ChamberMaster//Event Calendar 2.0//EN
METHOD:PUBLISH
X-PUBLISHED-TTL:P3D
REFRESH-INTERVAL:P3D
CALSCALE:GREGORIAN
BEGIN:VEVENT
DTSTART:20260128T230000Z
DTEND:20260129T010000Z
X-MICROSOFT-CDO-ALLDAYEVENT:FALSE
SUMMARY:Mixology Class at the Drawbridge Restaurant at Torry Island
DESCRIPTION:Mixology Class\n\nAn Interactive Cocktail Experience\n\nParticipants will received guided instruction\, create cocktails and take home a gift bag that includes a certificate of completion\, a shaker and a Perfectly Pour'd shot cup
X-ALT-DESC;FMTTYPE=text/html:Mixology Class<br />\nAn Interactive Cocktail Experience<br />\nParticipants will received guided instruction\, create cocktails and take home a gift bag that includes a certificate of completion\, a shaker and a Perfectly Pour&#39\;d shot cup
LOCATION:The Drawbridge Restaurant at Torry Island 3300 West Canal Street North Belle Glade
UID:e.3426.1268
SEQUENCE:3
DTSTAMP:20260424T214219Z
URL:https://www.bellegladechamber.com/events/details/mixology-class-at-the-drawbridge-restaurant-at-torry-island-1268
END:VEVENT

END:VCALENDAR
