BEGIN:VCALENDAR
VERSION:2.0
PRODID:-//ChamberMaster//Event Calendar 2.0//EN
METHOD:PUBLISH
X-PUBLISHED-TTL:P3D
REFRESH-INTERVAL:P3D
CALSCALE:GREGORIAN
BEGIN:VEVENT
DTSTART;VALUE=DATE:20191031
DTEND;VALUE=DATE:20191101
TRANSP:TRANSPARENT
X-MICROSOFT-CDO-ALLDAYEVENT:TRUE
SUMMARY:October Fest
DESCRIPTION:October Fest - Sponsored by the City of Belle Glade\, Florida Crystals\, Bridges of Belle Glade\, Dot & Ruby Helping Hand\n\nAn evening of haunted fun!   Carnival rides and game trailer.  Food and Candy buffet.
X-ALT-DESC;FMTTYPE=text/html:October Fest - Sponsored by the City of Belle Glade\, Florida Crystals\, Bridges of Belle Glade\, Dot &amp\; Ruby Helping Hand<br />\nAn evening of haunted fun!&nbsp\;&nbsp\;&nbsp\;Carnival rides and game trailer.&nbsp\; Food and Candy buffet.&nbsp\; &nbsp\; &nbsp\;&nbsp\;&nbsp\;&nbsp\;&nbsp\;
LOCATION:Louis Butts Park 1224 S.W. Avenue E Place Belle Glade
UID:e.3426.338
SEQUENCE:3
DTSTAMP:20260421T094006Z
URL:https://www.bellegladechamber.com/events/details/october-fest-338
END:VEVENT

END:VCALENDAR
