BEGIN:VCALENDAR
VERSION:2.0
PRODID:-//ChamberMaster//Event Calendar 2.0//EN
METHOD:PUBLISH
X-PUBLISHED-TTL:P3D
REFRESH-INTERVAL:P3D
CALSCALE:GREGORIAN
BEGIN:VEVENT
DTSTART:20251213T150000Z
DTEND:20251213T210000Z
X-MICROSOFT-CDO-ALLDAYEVENT:FALSE
SUMMARY:PET VACCINE CLINIC
DESCRIPTION:FREE PET VACCINE CLINIC\n\nSPONSORED BY JUSTIN BARTLETT ANIMAL RESCUE\n\nDOGS - RABIES - DA2PPV - BORDATELLA\n\nCATS - RABIES - FVRCP
X-ALT-DESC;FMTTYPE=text/html:FREE PET VACCINE CLINIC<br />\nSPONSORED BY JUSTIN BARTLETT ANIMAL RESCUE<br />\nDOGS - RABIES - DA2PPV - BORDATELLA<br />\nCATS - RABIES - FVRCP
LOCATION:TOWNE SQUARE 530 S. MAIN STREET BELLE GLADE (NEXT TO THE MUSEAUM)
UID:e.3426.1250
SEQUENCE:3
DTSTAMP:20260424T204542Z
URL:https://www.bellegladechamber.com/events/details/pet-vaccine-clinic-1250
END:VEVENT

END:VCALENDAR
