BEGIN:VCALENDAR
VERSION:2.0
PRODID:-//ChamberMaster//Event Calendar 2.0//EN
METHOD:PUBLISH
X-PUBLISHED-TTL:P3D
REFRESH-INTERVAL:P3D
CALSCALE:GREGORIAN
BEGIN:VEVENT
DTSTART:20191120T230000Z
DTEND:20191122T030000Z
X-MICROSOFT-CDO-ALLDAYEVENT:FALSE
SUMMARY:Rotary Club Turkey Shoot
DESCRIPTION:Annual Turkey Shoot
X-ALT-DESC;FMTTYPE=text/html:Annual Turkey Shoot
LOCATION:Avenue L Belle Glade
UID:e.3426.343
SEQUENCE:3
DTSTAMP:20260421T114543Z
URL:https://www.bellegladechamber.com/events/details/rotary-club-turkey-shoot-343
END:VEVENT

END:VCALENDAR
