BEGIN:VCALENDAR
VERSION:2.0
PRODID:-//ChamberMaster//Event Calendar 2.0//EN
METHOD:PUBLISH
X-PUBLISHED-TTL:P3D
REFRESH-INTERVAL:P3D
CALSCALE:GREGORIAN
BEGIN:VEVENT
DTSTART:20251219T153000Z
DTEND:20251219T163000Z
X-MICROSOFT-CDO-ALLDAYEVENT:FALSE
SUMMARY:Senior Social Hour
DESCRIPTION:Senior Social Hour    \n\nCalling all senior adults for a morning designed for you to connect\, engage in social activities and enjoy the company of other senior adults.\n\nRefreshments will be provided
X-ALT-DESC;FMTTYPE=text/html:Senior Social Hour&nbsp\;&nbsp\;&nbsp\;&nbsp\;<br />\nCalling all senior adults for a morning designed for you to connect\, engage in social activities and enjoy the company of other senior adults.<br />\nRefreshments will be provided
LOCATION:Belle Glade Branch Library 725 N.W. 4th Street Belle Glade
UID:e.3426.1260
SEQUENCE:3
DTSTAMP:20260424T204335Z
URL:https://www.bellegladechamber.com/events/details/senior-social-hour-1260
END:VEVENT

END:VCALENDAR
