BEGIN:VCALENDAR
VERSION:2.0
PRODID:-//ChamberMaster//Event Calendar 2.0//EN
METHOD:PUBLISH
X-PUBLISHED-TTL:P3D
REFRESH-INTERVAL:P3D
CALSCALE:GREGORIAN
BEGIN:VEVENT
DTSTART:20191107T220000Z
DTEND:20191109T010000Z
X-MICROSOFT-CDO-ALLDAYEVENT:FALSE
SUMMARY:Soccer Sign Ups
DESCRIPTION:SOCCER SIGN UPS
X-ALT-DESC;FMTTYPE=text/html:SOCCER SIGN UPS&nbsp\;&nbsp\;&nbsp\;&nbsp\;&nbsp\;&nbsp\;&nbsp\;&nbsp\;
LOCATION:CHAMBER OF COMMERCE 540 S. Main Street Belle Glade
UID:e.3426.339
SEQUENCE:3
DTSTAMP:20260421T103752Z
URL:https://www.bellegladechamber.com/events/details/soccer-sign-ups-339
END:VEVENT

END:VCALENDAR
