BEGIN:VCALENDAR
VERSION:2.0
PRODID:-//ChamberMaster//Event Calendar 2.0//EN
METHOD:PUBLISH
X-PUBLISHED-TTL:P3D
REFRESH-INTERVAL:P3D
CALSCALE:GREGORIAN
BEGIN:VEVENT
DTSTART:20251219T210000Z
DTEND:20251220T020000Z
X-MICROSOFT-CDO-ALLDAYEVENT:FALSE
SUMMARY:The City of Belle Glade Toy Give-A-Way
DESCRIPTION:The City of Belle Glade\n\nHoliday Celebration\n\nToy Give-A-Way\n\nLive Music\, Food\, Carnival Rides and Toy Give-A-Way\n\nRegistration for toy give-a-way from 4:00 p.m. to 7:00 p.m.\n\nFirst come - First Served
X-ALT-DESC;FMTTYPE=text/html:The City of Belle Glade<br />\nHoliday Celebration<br />\nToy Give-A-Way<br />\nLive Music\, Food\, Carnival Rides and Toy Give-A-Way<br />\nRegistration for toy give-a-way from 4:00 p.m. to 7:00 p.m.<br />\nFirst come - First Served
LOCATION:110 Dr. Martin Luther King Jr. Blvd. Belle Glade
UID:e.3426.1253
SEQUENCE:3
DTSTAMP:20260424T204815Z
URL:https://www.bellegladechamber.com/events/details/the-city-of-belle-glade-toy-give-a-way-1253
END:VEVENT

END:VCALENDAR
