BEGIN:VCALENDAR
VERSION:2.0
PRODID:-//ChamberMaster//Event Calendar 2.0//EN
METHOD:PUBLISH
X-PUBLISHED-TTL:P3D
REFRESH-INTERVAL:P3D
CALSCALE:GREGORIAN
BEGIN:VEVENT
DTSTART:20191112T000000Z
DTEND:20191112T020000Z
X-MICROSOFT-CDO-ALLDAYEVENT:FALSE
SUMMARY:The Mayhem Poets
DESCRIPTION:The Mayhem Poets\n\nLet's go see a poetry show.  That is the sentence rarely proclaimed and usually responded to with cringes and excuses.  This mind boggling performance has been described as "The Simpsons Meet Malcolm X at a Notorious B.I.G. Concert".  These theater trained\, comically gifted\, lyrical virtuosos seamlessly blend raw elements of hip hop\, theater\, improv and stand up comedy.
X-ALT-DESC;FMTTYPE=text/html:The Mayhem Poets<br />\nLet&#39\;s go see a poetry show.&nbsp\; That is the sentence rarely proclaimed and usually responded to with cringes and excuses.&nbsp\; This mind boggling performance has been described as &quot\;The Simpsons Meet Malcolm X at a Notorious B.I.G. Concert&quot\;.&nbsp\; These theater trained\, comically gifted\, lyrical virtuosos seamlessly blend raw elements of hip hop\, theater\, improv and stand up comedy.
LOCATION:Dolly Hand Cultural Arts Center 1977 College Drive Belle Glade\, Florida
UID:e.3426.345
SEQUENCE:3
DTSTAMP:20260421T104108Z
URL:https://www.bellegladechamber.com/events/details/the-mayhem-poets-345
END:VEVENT

END:VCALENDAR
