BEGIN:VCALENDAR
VERSION:2.0
PRODID:-//ChamberMaster//Event Calendar 2.0//EN
METHOD:PUBLISH
X-PUBLISHED-TTL:P3D
REFRESH-INTERVAL:P3D
CALSCALE:GREGORIAN
BEGIN:VEVENT
DTSTART:20250923T120000Z
DTEND:20250923T130000Z
X-MICROSOFT-CDO-ALLDAYEVENT:FALSE
SUMMARY:Transformational Tuesday ~ Diversity as a Strategic Asset
DESCRIPTION:Join the Solid Waste Authority of Palm Beach County's Equal Business Opportunity team for a small business development seminar. These monthly Transformational Tuesdays are to engage our small business leaders to rethink their habits\, learn innovative strategies\, and get ready for a new way of thinking that will propel them to the next level. This month's topic focuses on fueling growth\, engagement and innovation. The presenter\, CEO and Executive Coach Paola Ramirez\, will explore:\n\n	Improving decision making by inkling leaders with diverse viewpoints\n	Increasing employee engagement by recognizing their strengths\n	Creating strategic agility by empowering individual to craft future-proof strategies\n\n \n\nYou can get caught up on past Transformational Tuesdays at https://www.youtube.com/playlist?list=PLoU9K8zkQXWTxx_CL-7SeTMzGNjNQSzvs.
X-ALT-DESC;FMTTYPE=text/html:<span style="color:#333333"><span style="font-family:arial\,sans-serif"><span style="font-size:10.0pt">Join the Solid Waste Authority of Palm Beach County&#39\;s Equal Business Opportunity team for a small business development seminar. These monthly Transformational Tuesdays are to engage our small business leaders to rethink their habits\, learn innovative strategies\, and get ready for a new way of thinking that will propel them to the next level. This month&#39\;s topic focuses on fueling growth\, engagement and innovation. The presenter\, CEO and Executive Coach Paola Ramirez\, will explore:</span></span></span>\n<ul>\n	<li><span style="font-family:arial\,sans-serif"><span style="font-size:10.0pt">Improving decision making by inkling leaders with diverse viewpoints</span></span></li>\n	<li><span style="font-family:arial\,sans-serif"><span style="font-size:10.0pt">Increasing employee engagement by recognizing their strengths</span></span></li>\n	<li><span style="font-family:arial\,sans-serif"><span style="font-size:10.0pt">Creating strategic agility by empowering individual to craft future-proof strategies</span></span></li>\n</ul>\n&nbsp\;<br />\n<span style="color:#333333"><span style="font-family:arial\,sans-serif"><span style="font-size:10.0pt">You can get caught up on past Transformational Tuesdays at <a href="https://www.youtube.com/playlist?list=PLoU9K8zkQXWTxx_CL-7SeTMzGNjNQSzvs">https://www.youtube.com/playlist?list=PLoU9K8zkQXWTxx_CL-7SeTMzGNjNQSzvs</a></span></span></span><span style="font-family:arial\,sans-serif"><span style="font-size:10.0pt">. </span></span>
LOCATION:Solid Waste Authority of Palm Beach County Auditorium 7501 N. Jog Road West Palm Beach\, FL 33412
UID:e.3426.1237
SEQUENCE:3
DTSTAMP:20260424T174455Z
URL:https://www.bellegladechamber.com/events/details/transformational-tuesday-diversity-as-a-strategic-asset-1237
END:VEVENT

END:VCALENDAR
