BEGIN:VCALENDAR
VERSION:2.0
PRODID:-//ChamberMaster//Event Calendar 2.0//EN
METHOD:PUBLISH
X-PUBLISHED-TTL:P3D
REFRESH-INTERVAL:P3D
CALSCALE:GREGORIAN
BEGIN:VEVENT
DTSTART;VALUE=DATE:20191112
DTEND;VALUE=DATE:20191113
TRANSP:TRANSPARENT
X-MICROSOFT-CDO-ALLDAYEVENT:TRUE
SUMMARY:Western Palm Beach County Farm Bureau Banquet
DESCRIPTION:Dinner\, Awards\, Presentation of the Annual Everglades Agricultural Area Farm Family of the Year\n\nGuest Speaker\, Melissa McKinlay\, Palm Beach County Commissioner
X-ALT-DESC;FMTTYPE=text/html:Dinner\, Awards\, Presentation of the Annual Everglades Agricultural Area Farm Family of the Year<br />\nGuest Speaker\, Melissa McKinlay\, Palm Beach County Commissioner<br />\n&nbsp\;
LOCATION:Everglades Research and Education Center 3200 E. Canal Street South Belle Glade\, Florida
UID:e.3426.348
SEQUENCE:3
DTSTAMP:20260421T104449Z
URL:https://www.bellegladechamber.com/events/details/western-palm-beach-county-farm-bureau-banquet-348
END:VEVENT

END:VCALENDAR
